BEGIN:VCALENDAR
VERSION:2.0
PRODID:-//Tukios.com/
BEGIN:VEVENT
UID:76ed93a1-7413-4bb6-9563-321c41ef4ace@www.ertelfuneralhome.com
DTSTAMP:20260421T195822Z
DTSTART:20260425T203000Z
DTEND:20260425T213000Z
SUMMARY:Celebration of Life
DESCRIPTION:
URL:https://www.ertelfuneralhome.com/obituaries/david-andreason
LOCATION:The Church of Jesus Christ of Latter-day Saints 1700 E Empire St 
	 Cortez CO 81321
GEO:37.3568702;-108.5630104
END:VEVENT
END:VCALENDAR