BEGIN:VCALENDAR
VERSION:2.0
PRODID:-//Tukios.com/
BEGIN:VEVENT
UID:1aedeed1-9e1f-45c7-8435-b180a25e66a5@www.ertelfuneralhome.com
DTSTAMP:20260420T052407Z
DTSTART:20260606T190000Z
DTEND:20260606T220000Z
SUMMARY:Memorial Gathering
DESCRIPTION:
URL:https://www.ertelfuneralhome.com/obituaries/charlotte-palmer
LOCATION:Mancos US Hwy 160 & CO Hwy 184  Mancos CO 81328
GEO:37.3491967;-108.2891031
END:VEVENT
END:VCALENDAR